BEGIN:VCALENDAR
VERSION:2.0
PRODID:-//Bryce Canyon Lodging | - ECPv6.15.20//NONSGML v1.0//EN
CALSCALE:GREGORIAN
METHOD:PUBLISH
X-ORIGINAL-URL:https://www.rubysinn.com
X-WR-CALDESC:Events for Bryce Canyon Lodging |
REFRESH-INTERVAL;VALUE=DURATION:PT1H
X-Robots-Tag:noindex
X-PUBLISHED-TTL:PT1H
BEGIN:VTIMEZONE
TZID:America/Denver
BEGIN:DAYLIGHT
TZOFFSETFROM:-0700
TZOFFSETTO:-0600
TZNAME:MDT
DTSTART:20250309T090000
END:DAYLIGHT
BEGIN:STANDARD
TZOFFSETFROM:-0600
TZOFFSETTO:-0700
TZNAME:MST
DTSTART:20251102T080000
END:STANDARD
BEGIN:DAYLIGHT
TZOFFSETFROM:-0700
TZOFFSETTO:-0600
TZNAME:MDT
DTSTART:20260308T090000
END:DAYLIGHT
BEGIN:STANDARD
TZOFFSETFROM:-0600
TZOFFSETTO:-0700
TZNAME:MST
DTSTART:20261101T080000
END:STANDARD
BEGIN:DAYLIGHT
TZOFFSETFROM:-0700
TZOFFSETTO:-0600
TZNAME:MDT
DTSTART:20270314T090000
END:DAYLIGHT
BEGIN:STANDARD
TZOFFSETFROM:-0600
TZOFFSETTO:-0700
TZNAME:MST
DTSTART:20271107T080000
END:STANDARD
END:VTIMEZONE
BEGIN:VEVENT
DTSTART;VALUE=DATE:20260611
DTEND;VALUE=DATE:20260614
DTSTAMP:20260421T211438
CREATED:20230531T220239Z
LAST-MODIFIED:20260325T214032Z
UID:5493-1781136000-1781395199@www.rubysinn.com
SUMMARY:Bryce Canyon Astronomy Festival
DESCRIPTION:🌌 Bryce Canyon Astronomy Festival 2026 — Explore the Night Sky in One of America’s Darkest Places 🌠\nIf you’ve ever dreamed of gazing up at a sky filled with stars\, planets\, and the glowing band of the Milky Way\, there’s no better place to do it than Bryce Canyon National Park — a certified International Dark Sky Park known for its breathtaking night skies. And every summer\, astronomy lovers from across the country gather for the Bryce Canyon Astronomy Festival — a multi‑day celebration of celestial wonders\, cosmic learning\, and stargazing fun. Bryce Canyon Lodging |+1 \n📍 When & Where — Save the Date for 2026\nThe official lineup for the 2026 Bryce Canyon Astronomy Festival hasn’t been announced yet. \nYou can expect a similar 3‑day schedule in 2026 featuring daytime activities at the park’s Visitor Center and nighttime stargazing across some of the darkest skies in the continental U.S. Visit Bryce Canyon City \n\n🔭 What to Expect at the Festival\nThe Bryce Canyon Astronomy Festival draws families\, amateur astronomers\, and curious travelers alike for experiences that combine education\, discovery\, and fun under star‑filled skies. \n🌞 Daytime Activities\nDuring the day\, the Visitor Center Plaza becomes a hub for astronomy learning: \n\n\nSolar telescopes and exhibits — safely view the sun and learn about solar science (weather permitting). Visit Bryce Canyon City \n\n\nAstronomy booths and activity tents — interactive displays and hands‑on activities for kids and adults alike. brycecanyoncityut.gov \n\n\nThese daytime events usually run from late morning through the afternoon and are open to all visitors with park admission. Visit Bryce Canyon City \n🌙 Evening Programs & Stargazing\nOnce night falls\, the real magic begins: \n\n\nEvening ranger talks — learn about constellations\, planets\, myths of the night sky\, and the science behind what we see above us. Facebook \n\n\nTelescope viewing — volunteers and astronomy club members bring telescopes so visitors can view planets\, star clusters\, nebulae\, and more. Facebook \n\n\nPublic stargazing field — open after dark\, typically from around 10 p.m. to midnight\, offering guided stargazing opportunities where you can peer through powerful telescopes. brycecanyoncityut.gov \n\n\nSome evening programs require free tickets picked up at the Visitor Center the day of the event\, while telescope viewing is often open to all on a first‑come\, first‑served basis. Visit Bryce Canyon City \n\n✨ Why Bryce Canyon? The Best Night Skies in the West\nBryce Canyon’s high elevation and remote location make it one of the best places in the United States to stargaze. Because it’s designated an International Dark Sky Park\, light pollution is minimal — meaning you can see thousands of stars\, planets\, and even the Milky Way stretching overhead in spectacular fashion. Visit Utah \nWhether you’re an experienced astronomer or just someone who loves being under the stars\, the Astronomy Festival offers unique access and education you won’t find just anywhere. Guided constellation tours\, expert talks\, and powerful telescopes make this event a favorite for both kids and adults. Visit Bryce Canyon City \n\n🌟 Tips for Attending the Festival\n👉 Arrive with park admission — the festival itself is free with National Park entry (ticket fees may apply for some evening programs). Facebook👉 Bring warm layers — nighttime temperatures at Bryce Canyon in June can still be chilly\, especially after sunset.👉 Plan accommodations early — nearby lodging and campgrounds fill up during festival weekends.👉 Download a star map app — it’s helpful for identifying constellations between ranger programs. \n\n🌌 Make It a Summer Stargazing Trip!\nThe Bryce Canyon Astronomy Festival is a perfect excuse to plan a summer visit to one of America’s most iconic national parks. Combine stargazing with scenic hikes\, sunrise rim views\, and evening ranger programs for an unforgettable experience under both red rock and starry skies. \nFor more information – https://www.nps.gov/brca/planyourvisit/astrofest.htm \n\nNeed a place to stay during the Bryce Canyon Astronomy Festival? Take a look at our website. \n  \n 
URL:https://www.rubysinn.com/event/bryce-canyon-astronomy-festival/
ATTACH;FMTTYPE=image/jpeg:https://www.rubysinn.com/wp-content/uploads/2023/05/Untitled-Project-Time-0_02_1223.jpg
END:VEVENT
BEGIN:VEVENT
DTSTART;VALUE=DATE:20260614
DTEND;VALUE=DATE:20260615
DTSTAMP:20260421T211438
CREATED:20231227T213010Z
LAST-MODIFIED:20260106T222431Z
UID:5688-1781395200-1781481599@www.rubysinn.com
SUMMARY:Bryce Canyon Fee Free Day
DESCRIPTION:🌲 National Park Fee‑Free Days in 2026 — Your Guide to Free Access! 🎉\nPlanning a national park adventure this year? In 2026\, the U.S. National Park Service (NPS) has announced a new schedule of fee‑free days — dates when U.S. citizens and permanent residents can enter parks that normally charge an entrance fee for free. These special days are a great opportunity to explore iconic landscapes like Yellowstone\, Zion\, the Grand Canyon\, Acadia\, and more — without paying the usual entrance cost. National Park Service+1 \n📅 2026 Fee‑Free Days — Mark Your Calendar\nIn 2026\, the National Park Service will waive entrance fees on the following dates for U.S. citizens and permanent residents: \n🌟 Fee‑Free Days: \n\n\nFebruary 16 — Presidents Day (Washington’s Birthday) \n\n\nMay 25 — Memorial Day \n\n\nJune 14 — Flag Day / President’s Birthday \n\n\nJuly 3–5 — Independence Day Weekend \n\n\nAugust 25 — 110th Birthday of the National Park Service \n\n\nSeptember 17 — Constitution Day \n\n\nOctober 27 — Theodore Roosevelt’s Birthday \n\n\nNovember 11 — Veterans Day National Park Service+1 \n\n\nOn these dates\, all NPS sites that typically charge an entrance fee will offer free admission to eligible visitors (though timed‑entry reservations or special tour fees may still apply at some parks). National Park Service \n\n🧭 What’s Changed in 2026?\nIf you visited national parks in the past few years\, you’ll notice a few changes this year: \n🏕️ Fee‑free days are now tailored to specific observances. Instead of some previous holidays like Martin Luther King Jr. Day or Juneteenth\, the 2026 lineup focuses on major federal holidays\, anniversaries\, and historically themed dates. National Park Service \n🌎 Free admission days are now limited to U.S. citizens and permanent residents. Visitors from other countries will still need to pay standard park fees even on fee‑free days. National Park Service \n💳 Park passes and fees are being updated for 2026. There are new digital passes\, and non‑U.S. visitors may see different pricing structures for annual passes and entrance fees\, especially at popular parks. NerdWallet \n\n📌 Quick Tips for Visiting on Fee‑Free Days\n1. Arrive EarlyFee‑free days — especially holiday weekends like Memorial Day or Independence Day — tend to be very popular. Parking and crowds can fill up fast\, so plan to arrive early in the morning. \n2. Check Reservations & Timed EntriesSome parks (like Yosemite or Zion) require timed‑entry reservations for certain seasons or popular areas. Fee waivers don’t always apply to these reservations\, so double‑check park rules before your trip. \n3. Know What’s IncludedFree entrance covers the basic gate admission\, but does not always include camping\, guided tours\, shuttle fees\, or other paid activities. \n4. Explore Lesser‑Known Parks TooThere are hundreds of NPS units — national monuments\, historical sites\, battlefield parks\, and more — many of which also participate in fee‑free days but don’t get the same attention as the big names. It’s a great chance to discover something new! \n\n🌄 Why Visit on Fee‑Free Days?\nNational parks offer some of the most breathtaking scenery in the country — from waterfalls and canyons to forests and deserts. Visiting on one of these special days lets you enjoy iconic landscapes without paying entrance fees (as long as you qualify as a U.S. citizen or permanent resident). Whether you’re planning a weekend road trip or a bucket‑list adventure\, these fee‑free dates can help make it more affordable. National Park Service \n\nReady to explore? Pack your hiking boots\, download your park maps\, and plan your visit around these 2026 fee‑free days to make the most of your national park experience! 🌞🏞️
URL:https://www.rubysinn.com/event/bryce-canyon-fee-free-day-6/
ATTACH;FMTTYPE=image/jpeg:https://www.rubysinn.com/wp-content/uploads/2023/06/8vgGD9lA.jpeg
END:VEVENT
END:VCALENDAR