BEGIN:VCALENDAR
VERSION:2.0
PRODID:-//Bryce Canyon Lodging | - ECPv6.15.20//NONSGML v1.0//EN
CALSCALE:GREGORIAN
METHOD:PUBLISH
X-WR-CALNAME:Bryce Canyon Lodging |
X-ORIGINAL-URL:https://www.rubysinn.com
X-WR-CALDESC:Events for Bryce Canyon Lodging |
REFRESH-INTERVAL;VALUE=DURATION:PT1H
X-Robots-Tag:noindex
X-PUBLISHED-TTL:PT1H
BEGIN:VTIMEZONE
TZID:America/Denver
BEGIN:DAYLIGHT
TZOFFSETFROM:-0700
TZOFFSETTO:-0600
TZNAME:MDT
DTSTART:20250309T090000
END:DAYLIGHT
BEGIN:STANDARD
TZOFFSETFROM:-0600
TZOFFSETTO:-0700
TZNAME:MST
DTSTART:20251102T080000
END:STANDARD
BEGIN:DAYLIGHT
TZOFFSETFROM:-0700
TZOFFSETTO:-0600
TZNAME:MDT
DTSTART:20260308T090000
END:DAYLIGHT
BEGIN:STANDARD
TZOFFSETFROM:-0600
TZOFFSETTO:-0700
TZNAME:MST
DTSTART:20261101T080000
END:STANDARD
BEGIN:DAYLIGHT
TZOFFSETFROM:-0700
TZOFFSETTO:-0600
TZNAME:MDT
DTSTART:20270314T090000
END:DAYLIGHT
BEGIN:STANDARD
TZOFFSETFROM:-0600
TZOFFSETTO:-0700
TZNAME:MST
DTSTART:20271107T080000
END:STANDARD
END:VTIMEZONE
BEGIN:VEVENT
DTSTART;VALUE=DATE:20260514
DTEND;VALUE=DATE:20260515
DTSTAMP:20260424T051335
CREATED:20240308T224923Z
LAST-MODIFIED:20260106T223615Z
UID:5906-1778716800-1778803199@www.rubysinn.com
SUMMARY:Utah Prairie Dog Day
DESCRIPTION:🐾 Utah Prairie Dog Day 2026: Celebrate a Keystone Species at Bryce Canyon! 🌼\nEvery spring\, nature lovers and families gather at Bryce Canyon National Park to celebrate a unique and beloved resident of the high plateau meadows — the Utah prairie dog. The Utah Prairie Dog Day event offers a fun\, educational\, and family‑friendly way to learn about this important species and its role in the park’s ecosystem. National Park Service \n📅 When & Where\nWhile exact dates for 2026 haven’t been officially announced yet\, Utah Prairie Dog Day typically takes place in early to mid‑May at the Bryce Canyon Visitor Center Plaza and nearby prairie dog viewing areas inside Bryce Canyon National Park. go.nps.gov \nMark your calendar for spring 2026 — this event usually coincides with warmer weather\, wildlife activity\, and the return of prairie dogs above ground after winter hibernation. National Park Service \n\n🐹 What Is Utah Prairie Dog Day?\nUtah Prairie Dog Day is an annual celebration focused on one of Bryce Canyon’s most fascinating native mammals — the Utah prairie dog (Cynomys parvidens)\, a keystone species whose presence supports healthy meadow ecosystems. National Park Service \nThe day brings visitors together to enjoy ranger‑led viewing opportunities\, family‑friendly booths\, educational presentations\, and community activities that highlight prairie dogs’ behavior\, biology\, and conservation story. go.nps.gov \n\n🌟 Highlights of the Celebration\nHere’s what visitors can expect: \n🐾 Ranger‑Led Prairie Dog ViewingWatch these charismatic animals in their natural habitat and learn about their complex social behavior and ecology directly from park rangers and wildlife experts. go.nps.gov \n🎨 Family Activities & Educational BoothsInteractive displays and hands‑on booths give kids and adults alike a chance to learn about prairie dog conservation\, prairie ecology\, and local wildlife. go.nps.gov \n🗣️ Keynote Presentations & TalksSpecial talks from biologists\, researchers\, and wildlife professionals help visitors understand the challenges and successes of prairie dog conservation — including habitat restoration and research efforts. Gephardt Daily \n🐾 Fun for All AgesPast events have included prairie dog calling contests\, photography opportunities\, art displays\, and more\, making this celebration both fun and informative for visitors of all ages. go.nps.gov \n\n🌿 Why It Matters\nUtah prairie dogs once ranged widely across the Southwest but have lost significant habitat over the past century. Today\, thanks to conservation and reintroduction efforts\, populations in protected areas like Bryce Canyon are stable enough to be observed and celebrated in the wild. National Park Service \nAs a keystone species\, prairie dogs help aerate soil\, promote plant growth\, and support over 200 other species that rely on their colonies for food or habitat. Events like Utah Prairie Dog Day help raise awareness of their ecological importance and ongoing conservation needs. Visit Bryce Canyon City \n\n📌 Tips for Attending Utah Prairie Dog Day\n🎒 Plan Ahead:Utah Prairie Dog Day is popular with families and outdoor enthusiasts\, so arriving early gives you the best chance to enjoy all activities and viewing sessions. \n📸 Bring Binoculars & Cameras:Prairie dogs are small and often spotted in meadow areas — optics and a zoom lens will help you observe without disturbing them. \n🎟️ Park Admission:While the event itself is free with park admission\, classrooms and school groups may qualify for a fee waiver through the National Park Service’s educational programs. go.nps.gov \n🌤️ Check the Weather:Spring weather in southern Utah can be unpredictable — dress in layers and wear good walking shoes for exploring prairie dog meadows and visitor areas. \n\n🐾 Make It a Bryce Canyon Spring Trip!\nUtah Prairie Dog Day is a great reason to visit Bryce Canyon National Park in spring\, when the park awakens with wildlife and wildflowers. Combine this celebration with scenic drives\, viewpoint hikes\, and other spring events to make the most of your trip to southern Utah. \nWhether you’re a wildlife enthusiast\, a family with kids\, or a curious traveler\, Utah Prairie Dog Day promises a memorable and educational experience celebrating one of Bryce Canyon’s most fascinating residents. 🌼🐹 \n\n  \n   \n 
URL:https://www.rubysinn.com/event/utah-prairie-dog-day/
ATTACH;FMTTYPE=image/jpeg:https://www.rubysinn.com/wp-content/uploads/2024/03/2024-Utah-Prairie-Dog-Day-and-Art-Contest1.jpg
END:VEVENT
BEGIN:VEVENT
DTSTART;VALUE=DATE:20260525
DTEND;VALUE=DATE:20260526
DTSTAMP:20260424T051335
CREATED:20231227T212807Z
LAST-MODIFIED:20260106T222348Z
UID:5686-1779667200-1779753599@www.rubysinn.com
SUMMARY:Bryce Canyon Fee Free Day
DESCRIPTION:🌲 National Park Fee‑Free Days in 2026 — Your Guide to Free Access! 🎉\nPlanning a national park adventure this year? In 2026\, the U.S. National Park Service (NPS) has announced a new schedule of fee‑free days — dates when U.S. citizens and permanent residents can enter parks that normally charge an entrance fee for free. These special days are a great opportunity to explore iconic landscapes like Yellowstone\, Zion\, the Grand Canyon\, Acadia\, and more — without paying the usual entrance cost. National Park Service+1 \n📅 2026 Fee‑Free Days — Mark Your Calendar\nIn 2026\, the National Park Service will waive entrance fees on the following dates for U.S. citizens and permanent residents: \n🌟 Fee‑Free Days: \n\n\nFebruary 16 — Presidents Day (Washington’s Birthday) \n\n\nMay 25 — Memorial Day \n\n\nJune 14 — Flag Day / President’s Birthday \n\n\nJuly 3–5 — Independence Day Weekend \n\n\nAugust 25 — 110th Birthday of the National Park Service \n\n\nSeptember 17 — Constitution Day \n\n\nOctober 27 — Theodore Roosevelt’s Birthday \n\n\nNovember 11 — Veterans Day National Park Service+1 \n\n\nOn these dates\, all NPS sites that typically charge an entrance fee will offer free admission to eligible visitors (though timed‑entry reservations or special tour fees may still apply at some parks). National Park Service \n\n🧭 What’s Changed in 2026?\nIf you visited national parks in the past few years\, you’ll notice a few changes this year: \n🏕️ Fee‑free days are now tailored to specific observances. Instead of some previous holidays like Martin Luther King Jr. Day or Juneteenth\, the 2026 lineup focuses on major federal holidays\, anniversaries\, and historically themed dates. National Park Service \n🌎 Free admission days are now limited to U.S. citizens and permanent residents. Visitors from other countries will still need to pay standard park fees even on fee‑free days. National Park Service \n💳 Park passes and fees are being updated for 2026. There are new digital passes\, and non‑U.S. visitors may see different pricing structures for annual passes and entrance fees\, especially at popular parks. NerdWallet \n\n📌 Quick Tips for Visiting on Fee‑Free Days\n1. Arrive EarlyFee‑free days — especially holiday weekends like Memorial Day or Independence Day — tend to be very popular. Parking and crowds can fill up fast\, so plan to arrive early in the morning. \n2. Check Reservations & Timed EntriesSome parks (like Yosemite or Zion) require timed‑entry reservations for certain seasons or popular areas. Fee waivers don’t always apply to these reservations\, so double‑check park rules before your trip. \n3. Know What’s IncludedFree entrance covers the basic gate admission\, but does not always include camping\, guided tours\, shuttle fees\, or other paid activities. \n4. Explore Lesser‑Known Parks TooThere are hundreds of NPS units — national monuments\, historical sites\, battlefield parks\, and more — many of which also participate in fee‑free days but don’t get the same attention as the big names. It’s a great chance to discover something new! \n\n🌄 Why Visit on Fee‑Free Days?\nNational parks offer some of the most breathtaking scenery in the country — from waterfalls and canyons to forests and deserts. Visiting on one of these special days lets you enjoy iconic landscapes without paying entrance fees (as long as you qualify as a U.S. citizen or permanent resident). Whether you’re planning a weekend road trip or a bucket‑list adventure\, these fee‑free dates can help make it more affordable. National Park Service \n\nReady to explore? Pack your hiking boots\, download your park maps\, and plan your visit around these 2026 fee‑free days to make the most of your national park experience! 🌞🏞️
URL:https://www.rubysinn.com/event/bryce-canyon-fee-free-day-5/
ATTACH;FMTTYPE=image/jpeg:https://www.rubysinn.com/wp-content/uploads/2023/10/Bryce-Arch.jpg
END:VEVENT
END:VCALENDAR