BEGIN:VCALENDAR
VERSION:2.0
PRODID:-//Bryce Canyon Lodging | - ECPv6.15.20//NONSGML v1.0//EN
CALSCALE:GREGORIAN
METHOD:PUBLISH
X-WR-CALNAME:Bryce Canyon Lodging |
X-ORIGINAL-URL:https://www.rubysinn.com
X-WR-CALDESC:Events for Bryce Canyon Lodging |
REFRESH-INTERVAL;VALUE=DURATION:PT1H
X-Robots-Tag:noindex
X-PUBLISHED-TTL:PT1H
BEGIN:VTIMEZONE
TZID:America/Denver
BEGIN:DAYLIGHT
TZOFFSETFROM:-0700
TZOFFSETTO:-0600
TZNAME:MDT
DTSTART:20240310T090000
END:DAYLIGHT
BEGIN:STANDARD
TZOFFSETFROM:-0600
TZOFFSETTO:-0700
TZNAME:MST
DTSTART:20241103T080000
END:STANDARD
BEGIN:DAYLIGHT
TZOFFSETFROM:-0700
TZOFFSETTO:-0600
TZNAME:MDT
DTSTART:20250309T090000
END:DAYLIGHT
BEGIN:STANDARD
TZOFFSETFROM:-0600
TZOFFSETTO:-0700
TZNAME:MST
DTSTART:20251102T080000
END:STANDARD
BEGIN:DAYLIGHT
TZOFFSETFROM:-0700
TZOFFSETTO:-0600
TZNAME:MDT
DTSTART:20260308T090000
END:DAYLIGHT
BEGIN:STANDARD
TZOFFSETFROM:-0600
TZOFFSETTO:-0700
TZNAME:MST
DTSTART:20261101T080000
END:STANDARD
END:VTIMEZONE
BEGIN:VEVENT
DTSTART;VALUE=DATE:20250629
DTEND;VALUE=DATE:20250706
DTSTAMP:20260422T190443
CREATED:20250630T181740Z
LAST-MODIFIED:20250630T181740Z
UID:6498-1751155200-1751759999@www.rubysinn.com
SUMMARY:Bluegrass in Bryce
DESCRIPTION:Get ready for a toe-tapping good time with Bluegrass in Bryce\, running from June 29th through July 5th! This lively dinner and concert series brings the vibrant sounds of bluegrass to the heart of Bryce Canyon country for a full week of entertainment. \n 
URL:https://www.rubysinn.com/event/bluegrass-in-bryce/
ATTACH;FMTTYPE=image/jpeg:https://www.rubysinn.com/wp-content/uploads/2025/06/bluegrass-in-bryce.jpg
END:VEVENT
END:VCALENDAR