BEGIN:VCALENDAR
VERSION:2.0
PRODID:-//Bryce Canyon Lodging | - ECPv6.15.20//NONSGML v1.0//EN
CALSCALE:GREGORIAN
METHOD:PUBLISH
X-WR-CALNAME:Bryce Canyon Lodging |
X-ORIGINAL-URL:https://www.rubysinn.com
X-WR-CALDESC:Events for Bryce Canyon Lodging |
REFRESH-INTERVAL;VALUE=DURATION:PT1H
X-Robots-Tag:noindex
X-PUBLISHED-TTL:PT1H
BEGIN:VTIMEZONE
TZID:America/Denver
BEGIN:DAYLIGHT
TZOFFSETFROM:-0700
TZOFFSETTO:-0600
TZNAME:MDT
DTSTART:20240310T090000
END:DAYLIGHT
BEGIN:STANDARD
TZOFFSETFROM:-0600
TZOFFSETTO:-0700
TZNAME:MST
DTSTART:20241103T080000
END:STANDARD
BEGIN:DAYLIGHT
TZOFFSETFROM:-0700
TZOFFSETTO:-0600
TZNAME:MDT
DTSTART:20250309T090000
END:DAYLIGHT
BEGIN:STANDARD
TZOFFSETFROM:-0600
TZOFFSETTO:-0700
TZNAME:MST
DTSTART:20251102T080000
END:STANDARD
BEGIN:DAYLIGHT
TZOFFSETFROM:-0700
TZOFFSETTO:-0600
TZNAME:MDT
DTSTART:20260308T090000
END:DAYLIGHT
BEGIN:STANDARD
TZOFFSETFROM:-0600
TZOFFSETTO:-0700
TZNAME:MST
DTSTART:20261101T080000
END:STANDARD
END:VTIMEZONE
BEGIN:VEVENT
DTSTART;TZID=America/Denver:20251114T180000
DTEND;TZID=America/Denver:20251114T220000
DTSTAMP:20260422T063344
CREATED:20251007T214112Z
LAST-MODIFIED:20251008T223625Z
UID:6683-1763143200-1763157600@www.rubysinn.com
SUMMARY:Nashville Tribute Band Christmas Concert
DESCRIPTION:Kick Off the Christmas Season at Ruby’s Inn! We’re bringing the holiday spirit to Ruby’s Inn a little early this year… and you’re NOT going to want to miss it!Join us for a very special Christmas Concert on November 14th\, 2025 at 6:00 PM\, featuring: Ben Gallaher – rising Nashville star\, opening the night with heartwarming holiday vibes Nashville Tribute Band/Due West – closing out the evening with an all-Christmas performance like you’ve never seen from them before!That’s right – this is NOT your usual Nashville Tribute Band concert… this one’s all Christmas\, all night  And what’s Christmas without a feast?Enjoy a holiday-themed meal (crafted by the amazing Berta!) included with your ticket  Mark your calendars – November 14th Tickets available now!Stay tuned for more details. Let’s make it a night to remember and ring in the holiday season together at Ruby’s Inn!  \n 
URL:https://www.rubysinn.com/event/christmas-concert/
LOCATION:Ebenezer’s Barn and Grill\, 110 E. CENTER ST.\, Bryce\, UT\, 84764\, United States
ATTACH;FMTTYPE=image/jpeg:https://www.rubysinn.com/wp-content/uploads/2025/10/Firefly_christmas-trees-in-Bryce-Canyon-National-Park-with-christmas-lights-448528.jpg
END:VEVENT
BEGIN:VEVENT
DTSTART;VALUE=DATE:20250802
DTEND;VALUE=DATE:20250803
DTSTAMP:20260422T063344
CREATED:20240806T213252Z
LAST-MODIFIED:20250630T181415Z
UID:5989-1754092800-1754179199@www.rubysinn.com
SUMMARY:Nashville Stars over Bryce Canyon
DESCRIPTION:NASHVILLE STARS OVER BRYCE CANYON: AUGUST 2\n  \n\nBook your tickets NOW\n\nNeed a place to stay?\n \n 
URL:https://www.rubysinn.com/event/nashville-stars-over-bryce-canyon/
LOCATION:Ebenezer’s Barn and Grill\, 110 E. CENTER ST.\, Bryce\, UT\, 84764\, United States
ATTACH;FMTTYPE=image/jpeg:https://www.rubysinn.com/wp-content/uploads/2024/08/Due-West.jpg
END:VEVENT
BEGIN:VEVENT
DTSTART;VALUE=DATE:20250629
DTEND;VALUE=DATE:20250706
DTSTAMP:20260422T063344
CREATED:20250630T181740Z
LAST-MODIFIED:20250630T181740Z
UID:6498-1751155200-1751759999@www.rubysinn.com
SUMMARY:Bluegrass in Bryce
DESCRIPTION:Get ready for a toe-tapping good time with Bluegrass in Bryce\, running from June 29th through July 5th! This lively dinner and concert series brings the vibrant sounds of bluegrass to the heart of Bryce Canyon country for a full week of entertainment. \n 
URL:https://www.rubysinn.com/event/bluegrass-in-bryce/
ATTACH;FMTTYPE=image/jpeg:https://www.rubysinn.com/wp-content/uploads/2025/06/bluegrass-in-bryce.jpg
END:VEVENT
END:VCALENDAR