BEGIN:VCALENDAR
VERSION:2.0
PRODID:-//Bryce Canyon Lodging | - ECPv6.15.20//NONSGML v1.0//EN
CALSCALE:GREGORIAN
METHOD:PUBLISH
X-WR-CALNAME:Bryce Canyon Lodging |
X-ORIGINAL-URL:https://www.rubysinn.com
X-WR-CALDESC:Events for Bryce Canyon Lodging |
REFRESH-INTERVAL;VALUE=DURATION:PT1H
X-Robots-Tag:noindex
X-PUBLISHED-TTL:PT1H
BEGIN:VTIMEZONE
TZID:America/Denver
BEGIN:DAYLIGHT
TZOFFSETFROM:-0700
TZOFFSETTO:-0600
TZNAME:MDT
DTSTART:20250309T090000
END:DAYLIGHT
BEGIN:STANDARD
TZOFFSETFROM:-0600
TZOFFSETTO:-0700
TZNAME:MST
DTSTART:20251102T080000
END:STANDARD
BEGIN:DAYLIGHT
TZOFFSETFROM:-0700
TZOFFSETTO:-0600
TZNAME:MDT
DTSTART:20260308T090000
END:DAYLIGHT
BEGIN:STANDARD
TZOFFSETFROM:-0600
TZOFFSETTO:-0700
TZNAME:MST
DTSTART:20261101T080000
END:STANDARD
BEGIN:DAYLIGHT
TZOFFSETFROM:-0700
TZOFFSETTO:-0600
TZNAME:MDT
DTSTART:20270314T090000
END:DAYLIGHT
BEGIN:STANDARD
TZOFFSETFROM:-0600
TZOFFSETTO:-0700
TZNAME:MST
DTSTART:20271107T080000
END:STANDARD
BEGIN:DAYLIGHT
TZOFFSETFROM:-0700
TZOFFSETTO:-0600
TZNAME:MDT
DTSTART:20280312T090000
END:DAYLIGHT
BEGIN:STANDARD
TZOFFSETFROM:-0600
TZOFFSETTO:-0700
TZNAME:MST
DTSTART:20281105T080000
END:STANDARD
END:VTIMEZONE
BEGIN:VEVENT
DTSTART;VALUE=DATE:20261224
DTEND;VALUE=DATE:20261226
DTSTAMP:20260422T165406
CREATED:20231219T160957Z
LAST-MODIFIED:20260106T230111Z
UID:5670-1798070400-1798243199@www.rubysinn.com
SUMMARY:Christmas Eve and Christmas Day Hours
DESCRIPTION:🎄 Celebrate the Holidays with Special Christmas Buffets at Ruby’s Inn 🍽️\nThe holiday season is a magical time at Ruby’s Inn\, and this year\, we’re making it extra special with festive Christmas Eve and Christmas Day hours and delicious holiday buffets. Whether you’re visiting Bryce Canyon for a winter getaway or looking for a stress-free family Christmas meal\, Ruby’s Inn is the perfect place to enjoy a warm\, welcoming holiday feast. (rubysinn.com) \n\n📅 Holiday Hours & Buffet Schedule\nChristmas Eve – December 24\, 2026 \n\n\nBuffet Hours: 11:00 AM – 8:00 PM \n\n\nEnjoy a festive buffet featuring traditional holiday favorites alongside Ruby’s signature dishes. \n\n\nChristmas Day – December 25\, 2026 \n\n\nBuffet Hours: 11:00 AM – 8:00 PM \n\n\nCelebrate Christmas with family and friends over a hearty\, home-style buffet\, including seasonal favorites\, carving stations\, sides\, desserts\, and more. \n\n\n\nOur holiday hours ensure you have plenty of time to enjoy a relaxing Christmas meal before or after a day exploring the winter beauty of Bryce Canyon. \n\n\n🍽️ What to Expect at the Holiday Buffets\nThe Christmas Eve and Christmas Day buffets are packed with festive flavors and comforting favorites\, including: \n\n\nRoast Turkey with Stuffing & Gravy 🦃 \n\n\nPrime Rib & Seasonal Meats 🥩 \n\n\nTraditional Holiday Sides — mashed potatoes\, cranberry sauce\, sweet potatoes\, green bean casserole\, and more \n\n\nFresh Salads & Soups 🥗 \n\n\nHoliday Desserts — pumpkin pie\, apple pie\, chocolate treats\, and other seasonal favorites 🍰 \n\n\nBeverages — soft drinks\, coffee\, and specialty holiday drinks \n\n\nThe buffet is designed for all ages\, offering something for everyone\, from kids to adults\, and making it easy to enjoy a stress-free Christmas feast. \n\n🌟 Why Celebrate at Ruby’s Inn\n\n\nConvenient Location: Just minutes from the entrance to Bryce Canyon National Park — perfect for visitors spending the holidays in Bryce Canyon Country. \n\n\nFestive Atmosphere: Enjoy a cozy\, rustic western setting decorated for the holidays. \n\n\nFamily-Friendly Dining: Large dining spaces and warm hospitality make it a comfortable place for families and friends. \n\n\nNo Cooking or Cleanup: Focus on making memories while we handle the feast! \n\n\n\n🧾 Tips for Attending\n\n\nWalk-In Seating: Ruby’s Inn welcomes all guests; seating is first-come\, first-served\, so plan to arrive early for the best experience. \n\n\nPair With Bryce Canyon Activities: Take a winter hike\, snowshoe\, or scenic drive before or after your buffet. \n\n\nDress for the Season: Cozy attire is recommended — the Inn is festive and welcoming\, perfect for capturing holiday memories. \n\n\n\n🎄 Make Your Christmas Special\nThis holiday season\, let Ruby’s Inn take the stress out of cooking and cleanup while you enjoy a delicious Christmas buffet with your loved ones. With special hours for Christmas Eve and Christmas Day\, there’s plenty of time to gather\, feast\, and celebrate the season in style. \n📢 Walk-ins are welcome — seating is first-come\, first-served\, so arrive early and enjoy a festive Christmas meal at Ruby’s Inn! \n 
URL:https://www.rubysinn.com/event/christmas-eve-and-christmas-day-hours/
ATTACH;FMTTYPE=image/jpeg:https://www.rubysinn.com/wp-content/uploads/2025/10/Firefly_christmas-trees-in-Bryce-Canyon-National-Park-with-christmas-lights-448528.jpg
END:VEVENT
BEGIN:VEVENT
DTSTART;VALUE=DATE:20261231
DTEND;VALUE=DATE:20270102
DTSTAMP:20260422T165406
CREATED:20231127T193816Z
LAST-MODIFIED:20260106T225007Z
UID:5636-1798675200-1798847999@www.rubysinn.com
SUMMARY:New Year's Eve Party
DESCRIPTION:🎉 Ring in 2027 at Ruby’s Inn New Year’s Eve Party 2026! 🥂\nLooking for the perfect way to celebrate New Year’s Eve near Bryce Canyon National Park? Ruby’s Inn is hosting its annual New Year’s Eve Party\, offering a night full of music\, dancing\, delicious food\, and festive fun. Whether you’re visiting Bryce Canyon for a winter getaway or celebrating locally\, this party promises to be an unforgettable way to welcome 2027 in style. (rubysinn.com) \n\n📅 Event Details\n\n\nDate: Thursday\, December 31\, 2026 \n\n\nTime: 8:00 PM – 1:00 AM \n\n\nLocation: Ruby’s Inn\, Bryce Canyon City\, UT \n\n\nCelebrate the final night of 2026 with friends\, family\, and fellow visitors in a lively\, festive atmosphere just minutes from the breathtaking Bryce Canyon National Park. \n\n🎶 What to Expect\nThe Ruby’s Inn New Year’s Eve Party offers something for everyone: \n\n\nLive Music & DJ – Dance the night away to a mix of classic hits\, current favorites\, and holiday tunes. \n\n\nComplimentary Appetizers & Snacks – Enjoy a selection of treats while mingling with other guests. \n\n\nCash Bar & Specialty Drinks – Toast to the New Year with cocktails\, beer\, wine\, and non-alcoholic options. \n\n\nCountdown Celebration – Join the crowd at midnight for a spirited countdown to 2027! \n\n\nPhoto Opportunities – Capture memories with fun New Year’s props and a festive photo area. \n\n\nThe party blends a friendly\, community vibe with lively entertainment\, making it perfect for couples\, families\, and groups of friends. \n\n🌟 Why Celebrate at Ruby’s Inn\n\n\nConvenient Location: Just outside Bryce Canyon National Park\, making it easy for visitors to enjoy the event after a day exploring the park. \n\n\nFamily-Friendly Fun: While it’s a party atmosphere\, the event welcomes all ages\, making it a great option for families looking to celebrate together. \n\n\nScenic Winter Setting: Enjoy the beauty of Bryce Canyon Country in winter\, with crisp air\, starry skies\, and the festive ambiance of the Inn. \n\n\n\n🧾 Tips for Attending\n\n\nArrive Early: The party can get busy\, so arrive early to secure your spot and enjoy the full evening of entertainment. \n\n\nDress Festive & Warm: Layered attire is recommended for comfort — celebrate in style while staying cozy in the winter weather. \n\n\nConsider Lodging: Ruby’s Inn offers nearby accommodations\, so you can celebrate without worrying about travel after midnight. \n\n\nPlan for Parking: Ample parking is available\, but early arrival ensures the best spots. \n\n\n\n🥂 Start 2027 Off Right\nThe Ruby’s Inn New Year’s Eve Party 2026 is your chance to celebrate in style\, enjoy good food\, music\, and company\, and make lasting memories in the heart of Bryce Canyon Country. Whether you’re local or traveling from afar\, this party offers a festive\, fun\, and memorable way to welcome 2027. \n📢 Don’t miss it — join the celebration at Ruby’s Inn this New Year’s Eve! \n  \nGet your room booked! \n  \n 
URL:https://www.rubysinn.com/event/new-years-eve-party/
LOCATION:Ebenezer’s Barn and Grill\, 110 E. CENTER ST.\, Bryce\, UT\, 84764\, United States
ATTACH;FMTTYPE=image/jpeg:https://www.rubysinn.com/wp-content/uploads/2023/11/New-Years-Eve-Teaser.jpg
END:VEVENT
END:VCALENDAR