BEGIN:VCALENDAR
VERSION:2.0
PRODID:-//Bryce Canyon Lodging | - ECPv6.15.20//NONSGML v1.0//EN
CALSCALE:GREGORIAN
METHOD:PUBLISH
X-WR-CALNAME:Bryce Canyon Lodging |
X-ORIGINAL-URL:https://www.rubysinn.com
X-WR-CALDESC:Events for Bryce Canyon Lodging |
REFRESH-INTERVAL;VALUE=DURATION:PT1H
X-Robots-Tag:noindex
X-PUBLISHED-TTL:PT1H
BEGIN:VTIMEZONE
TZID:America/Denver
BEGIN:DAYLIGHT
TZOFFSETFROM:-0700
TZOFFSETTO:-0600
TZNAME:MDT
DTSTART:20250309T090000
END:DAYLIGHT
BEGIN:STANDARD
TZOFFSETFROM:-0600
TZOFFSETTO:-0700
TZNAME:MST
DTSTART:20251102T080000
END:STANDARD
BEGIN:DAYLIGHT
TZOFFSETFROM:-0700
TZOFFSETTO:-0600
TZNAME:MDT
DTSTART:20260308T090000
END:DAYLIGHT
BEGIN:STANDARD
TZOFFSETFROM:-0600
TZOFFSETTO:-0700
TZNAME:MST
DTSTART:20261101T080000
END:STANDARD
BEGIN:DAYLIGHT
TZOFFSETFROM:-0700
TZOFFSETTO:-0600
TZNAME:MDT
DTSTART:20270314T090000
END:DAYLIGHT
BEGIN:STANDARD
TZOFFSETFROM:-0600
TZOFFSETTO:-0700
TZNAME:MST
DTSTART:20271107T080000
END:STANDARD
END:VTIMEZONE
BEGIN:VEVENT
DTSTART;VALUE=DATE:20260716
DTEND;VALUE=DATE:20260720
DTSTAMP:20260422T005526
CREATED:20260211T182743Z
LAST-MODIFIED:20260211T182743Z
UID:7075-1784160000-1784505599@www.rubysinn.com
SUMMARY:Bryce Canyon Rock and Gem Show
DESCRIPTION:The Bryce Canyon Rock and Gem Show at Ruby’s Inn is a four-day celebration of geology\, gemstones\, fossils\, and handcrafted treasures\, taking place July 16–19. Held alongside the Bryce Geology Festival in Bryce Canyon National Park\, this exciting event will bring together rock and gem vendors from across the region\, offering a wide selection of minerals\, crystals\, fossils\, jewelry\, lapidary art\, and unique gifts. Guests can browse indoor and outdoor booths\, meet knowledgeable vendors\, and discover one-of-a-kind pieces while enjoying the stunning backdrop of Bryce Canyon. Whether you’re an avid collector\, a hobbyist\, or simply curious about the natural beauty of the earth\, this show offers something for all ages and experience levels. \n  \nVendors interested in participating in the Bryce Canyon Rock and Gem Show at Ruby’s Inn are invited to apply for booth space today. We welcome rock\, gem\, mineral\, fossil\, jewelry\, and lapidary vendors\, as well as related artisans and specialty exhibitors. Both indoor and outdoor booth spaces are available for rent. This event offers a unique opportunity to connect with collectors\, enthusiasts\, and visitors attending the Bryce Geology Festival and exploring Bryce Canyon National Park. Space is limited\, so we encourage early registration. To reserve your booth\, please complete the vendor application here \n 
URL:https://www.rubysinn.com/event/bryce-canyon-rock-and-gem-show/
ATTACH;FMTTYPE=image/jpeg:https://www.rubysinn.com/wp-content/uploads/2026/02/Rock-Shop-22.jpg
END:VEVENT
BEGIN:VEVENT
DTSTART;VALUE=DATE:20260717
DTEND;VALUE=DATE:20260719
DTSTAMP:20260422T005526
CREATED:20230531T223043Z
LAST-MODIFIED:20260106T224342Z
UID:5504-1784246400-1784419199@www.rubysinn.com
SUMMARY:Bryce Canyon Geology Festival
DESCRIPTION:🪨 Bryce Canyon Geology Festival 2026 — Discover Earth’s Story in Stone 🌍\nEvery summer\, Bryce Canyon National Park hosts a beloved event that celebrates the ancient forces and fascinating rock record that shaped its surreal landscapes. The Bryce Canyon Geology Festival (often called Geo Fest) brings geology to life for visitors of all ages with guided hikes\, hands‑on activities\, expert talks\, and interactive exhibits — and best of all\, it’s free with park admission! National Park Service \n\n📅 Save the Date for 2026!\nWhile official dates for the 2026 Bryce Canyon Geology Festival haven’t been published yet\, this annual event traditionally takes place in mid‑July during a weekend full of geology‑themed fun. In past years\, the festival has been held over two days in mid‑July\, offering a full schedule of activities for families and geology enthusiasts alike. National Park Service \nPlan ahead and watch the Bryce Canyon National Park events page for exact 2026 dates as the summer approaches. National Park Service \n\n🗿 What to Expect at Geo Fest\nThe Bryce Canyon Geology Festival is a celebration of Earth’s deep past and the remarkable forces that created Bryce Canyon’s distinctive hoodoos\, spires\, and amphitheaters. The event is ideal for curious travelers\, families\, and amateur geologists alike. Visit Bryce Canyon City \n🥾 Guided Hikes & Ranger Talks\nJoin park rangers and volunteers for geology‑focused guided hikes and interpretive talks that explain the park’s rock formations and the processes that carved them. Past festivals have included hikes to fascinating geological features and daily geology talks in park amphitheaters or along the rim. Visit Bryce Canyon City \n🧒 Family‑Friendly Booths & Activities\nThe Visitor Center Plaza becomes a hub of geological discovery\, complete with interactive booths\, displays\, and activities for visitors of all ages. Kids can enjoy a fossil dig\, take part in a geology scavenger hunt throughout the park\, or learn how Bryce Canyon’s landscapes changed over millions of years. Visit Bryce Canyon City \n🗣️ Evening Programs & Guest Speakers\nAfter daytime activities\, evening presentations often bring even more insight into Earth’s story. Special guest speakers — including geologists\, paleontologists\, and authors — have offered fascinating talks on topics ranging from ancient fossil discoveries to the geology of the Colorado Plateau. National Park Service \n🧠 Explore Geology Up Close\nAcross the festival\, you’ll find opportunities to interact with geologists\, ask questions\, and deepen your understanding of Bryce Canyon’s incredible geology — from its colorful sedimentary layers to the long history of uplift\, erosion\, and time that formed this unique natural wonder. Visit Bryce Canyon City \n\n🧭 Why Attend?\nBryce Canyon’s geology is truly one‑of‑a‑kind. The park’s famous spires\, or hoodoos\, are shaped by frost‑weathering and differential erosion acting on layered sedimentary rocks that were laid down over millions of years. Events like the Geology Festival give visitors a chance to go beyond the breathtaking views and learn the science behind the scenery in a fun\, interactive environment. Wikipedia \nWhether you’re a seasoned rock hound or simply curious about how nature sculpts landscapes\, Geo Fest offers a unique way to explore Earth’s history from the ground up. \n\n🌞 Tips for Festival Goers\n📍 Arrive EarlyPopular activities such as guided hikes and fossil digs sometimes require free same‑day tickets that are handed out at the Visitor Center in the morning. Visit Bryce Canyon City \n👟 Wear Good ShoesTerrain around Bryce Canyon can be rocky and uneven — sturdy footwear will make your geology adventures more comfortable. \n📸 Bring a Camera or Field GuideFrom hoodoos to fossils\, you’ll see geological features worth remembering. A field guide or geology app can help identify rocks and formations as you explore. \n🌤️ Plan for WeatherSummer days can be warm with cool mornings at elevation. Bring sunscreen\, water\, and layered clothing for comfort during hikes. \n\n🪨 A Celebration of Earth’s Story\nThe Bryce Canyon Geology Festival is more than a weekend event — it’s a chance to connect with the timeless forces that shaped one of the planet’s most extraordinary landscapes. Whether you’re fascinated by fossils\, curious about rock formations\, or just love learning outdoors\, this festival invites you to unearth the ancient past under the bright Utah sky \n  \n\nMore information\n  \n 
URL:https://www.rubysinn.com/event/bryce-canyon-geology-festival/
ATTACH;FMTTYPE=image/webp:https://www.rubysinn.com/wp-content/uploads/2023/05/Geo_Fest_Poster_color.webp
END:VEVENT
END:VCALENDAR