BEGIN:VCALENDAR
VERSION:2.0
PRODID:-//Bryce Canyon Lodging | - ECPv6.15.20//NONSGML v1.0//EN
CALSCALE:GREGORIAN
METHOD:PUBLISH
X-WR-CALNAME:Bryce Canyon Lodging |
X-ORIGINAL-URL:https://www.rubysinn.com
X-WR-CALDESC:Events for Bryce Canyon Lodging |
REFRESH-INTERVAL;VALUE=DURATION:PT1H
X-Robots-Tag:noindex
X-PUBLISHED-TTL:PT1H
BEGIN:VTIMEZONE
TZID:America/Denver
BEGIN:DAYLIGHT
TZOFFSETFROM:-0700
TZOFFSETTO:-0600
TZNAME:MDT
DTSTART:20250309T090000
END:DAYLIGHT
BEGIN:STANDARD
TZOFFSETFROM:-0600
TZOFFSETTO:-0700
TZNAME:MST
DTSTART:20251102T080000
END:STANDARD
BEGIN:DAYLIGHT
TZOFFSETFROM:-0700
TZOFFSETTO:-0600
TZNAME:MDT
DTSTART:20260308T090000
END:DAYLIGHT
BEGIN:STANDARD
TZOFFSETFROM:-0600
TZOFFSETTO:-0700
TZNAME:MST
DTSTART:20261101T080000
END:STANDARD
BEGIN:DAYLIGHT
TZOFFSETFROM:-0700
TZOFFSETTO:-0600
TZNAME:MDT
DTSTART:20270314T090000
END:DAYLIGHT
BEGIN:STANDARD
TZOFFSETFROM:-0600
TZOFFSETTO:-0700
TZNAME:MST
DTSTART:20271107T080000
END:STANDARD
END:VTIMEZONE
BEGIN:VEVENT
DTSTART;VALUE=DATE:20260711
DTEND;VALUE=DATE:20260712
DTSTAMP:20260422T005526
CREATED:20230531T223702Z
LAST-MODIFIED:20260106T224058Z
UID:5507-1783728000-1783814399@www.rubysinn.com
SUMMARY:Bryce Canyon Half Marathon
DESCRIPTION:🏃‍♂️ Bryce Canyon Half Marathon 2026 — Run Through Red Rock Scenery! 🌄\nIf you’re a runner who loves breathtaking landscapes and small‑town race vibes\, the Bryce Canyon Half Marathon is a must‑add event to your race calendar. Every summer\, athletes from across the region gather in Bryce Canyon Country for a stunning point‑to‑point half marathon that showcases the rugged beauty of southern Utah’s iconic red rocks and sweeping desert vistas. Bryce Canyon Half Marathon+1 \n\n📅 Race Details — Mark Your Calendar\n\n\n📅 Date: Saturday\, July 11\, 2026 — the second weekend in July\, ideal for a summer getaway. Bryce Canyon Half Marathon \n\n\n⏰ Start Time: 6:00 AM (early start to beat the heat). Bryce Canyon Half Marathon \n\n\n📍 Starting Line: Ruby’s Inn on Highway 63\, Bryce Canyon City (elevation ~7\,652 ft). Bryce Canyon Half Marathon \n\n\n🏁 Finish Line: Cannonville Town Park (elevation ~5\,800 ft). Bryce Canyon Half Marathon \n\n\nThis half marathon features a point‑to‑point course with a net downhill — perfect for runners looking for a personal best while soaking in outstanding canyon views. Bryce Canyon Half Marathon \n\n🥇 Scenic Course Highlights\nThe course begins near the eastern entrance of Bryce Canyon National Park and heads east along Scenic Byway 12\, one of Utah’s most breathtaking roadways. Runners enjoy: \n\n\n🌅 Sunrise views lighting up the canyon walls as the race begins. Bryce Canyon Half Marathon \n\n\n🏜️ Red rock vistas and hoodoos as you descend through the park’s dramatic landscape. Bryce Canyon Half Marathon \n\n\n🌾 Pastures and ranchlands as the route winds eastward past Tropic to the finish line in Cannonville. Bryce Canyon Half Marathon \n\n\nThis unique setting makes the Bryce Canyon Half Marathon more than just a race — it’s a visual journey through one of the Southwest’s most picturesque regions. Bryce Canyon Half Marathon \n\n🏅 Race Weekend Fun\nThe Bryce Canyon Half Marathon weekend has something for everyone — not just competitive runners: \n🥗 Pre‑Race Pasta DinnerGet energized and connect with fellow runners at the Friday night spaghetti dinner in Tropic Town Park. Bryce Canyon Half Marathon \n🚍 Shuttle ServiceShuttles transport runners from Cannonville and Tropic to the start line before dawn. Bryce Canyon Half Marathon \n🏃‍♂️ 5K Walk/Run OptionNot ready for the half marathon? Join the 5K Walk/Run along Kodachrome Road\, perfect for families and casual fitness walkers. Bryce Canyon Half Marathon \n🍩 Finish Line FestivitiesAfter crossing the finish line at Cannonville Town Park\, grab your finisher’s medal\, fruit\, bagels\, chocolate milk\, water\, and ice cream to celebrate your accomplishment. Bryce Canyon Half Marathon \n\n💰 Prizes & Perks\nThere’s something extra on the line too! The race features a $3\,000 purse\, with cash prizes for the top five male and female overall finishers. Bryce Canyon Half Marathon \nEvery registered runner receives: \n\n\nAn official race shirt \n\n\nA finisher’s medal \n\n\nAid station support along the course \n\n\nMorning snacks and refreshments at the finish area Bryce Canyon Half Marathon \n\n\nJust remember: race entries are limited\, so sign up early before the field fills! Bryce Canyon Half Marathon \n\n🧠 Tips for Runners\n🌄 Acclimate to ElevationWith a starting elevation over 7\,600 ft\, arriving a day or two early can help your body adjust and perform your best. Bryce Canyon Half Marathon \n☀️ Beat the HeatEarly morning starts and plenty of support stations mean you’ll stay cool and fueled as temperatures rise. Bryce Canyon Half Marathon \n🚗 Plan Lodging NearbyStay at Ruby’s Inn\, Bryce Canyon City motels\, or campgrounds for quick access to the start line and other area attractions. \n\n🏜️ More Than a Race — It’s a Summer Adventure!\nFrom the stunning sunrise over Bryce Canyon’s red cliffs to the cheers at the finish line in Cannonville\, the Bryce Canyon Half Marathon delivers both challenge and scenic adventure. Whether you’re chasing a new best time or simply enjoying the journey\, this race is a perfect way to experience the breathtaking landscapes and community spirit of southern Utah. \n \nThe Bryce Canyon Half Marathon weekend has something for everyone. The half marathon course takes you through the iconic red rock that is abundant throughout Bryce Canyon Country. Catch a taste of the red rocks along Kodachrome Road on the 5k Walk/Run or get blasted with color in the Color Me Fun Run. Come and enjoy Bryce Canyon Country and be sure to bring your friends. \n\nHalf Marathon\nThe Half Marathon starts at Ruby’s Inn on Hwy 63\, Bryce (elev. 7\,652 ft.). The course heads north\, then turns east onto National Scenic Byway 12. The route descends through Bryce Canyon National Park\, through the town of Tropic\, and ends in Cannonville (elev. 5\,800ft.). \n\n5K Walk/Run\nThe 5K Walk or Run is for those that want to share the experience and beauty of Southern Utah’s red rock. The starting line is at the Cannonville Town Park and takes you south along Kodachrome Road. Enjoy early morning views of the beautiful red rocks and the famous Promise Rock in the valley to the east. \n\nRegister Now! \n\nPlan your visit with a place to stay right at the starting line.
URL:https://www.rubysinn.com/event/bryce-canyon-half-marathon/
ATTACH;FMTTYPE=image/jpeg:https://www.rubysinn.com/wp-content/uploads/2023/05/UNADJUSTEDNONRAW_thumb_697f.jpg
END:VEVENT
END:VCALENDAR