BEGIN:VCALENDAR
VERSION:2.0
PRODID:-//Bryce Canyon Lodging | - ECPv6.15.20//NONSGML v1.0//EN
CALSCALE:GREGORIAN
METHOD:PUBLISH
X-ORIGINAL-URL:https://www.rubysinn.com
X-WR-CALDESC:Events for Bryce Canyon Lodging |
REFRESH-INTERVAL;VALUE=DURATION:PT1H
X-Robots-Tag:noindex
X-PUBLISHED-TTL:PT1H
BEGIN:VTIMEZONE
TZID:America/Denver
BEGIN:DAYLIGHT
TZOFFSETFROM:-0700
TZOFFSETTO:-0600
TZNAME:MDT
DTSTART:20250309T090000
END:DAYLIGHT
BEGIN:STANDARD
TZOFFSETFROM:-0600
TZOFFSETTO:-0700
TZNAME:MST
DTSTART:20251102T080000
END:STANDARD
BEGIN:DAYLIGHT
TZOFFSETFROM:-0700
TZOFFSETTO:-0600
TZNAME:MDT
DTSTART:20260308T090000
END:DAYLIGHT
BEGIN:STANDARD
TZOFFSETFROM:-0600
TZOFFSETTO:-0700
TZNAME:MST
DTSTART:20261101T080000
END:STANDARD
BEGIN:DAYLIGHT
TZOFFSETFROM:-0700
TZOFFSETTO:-0600
TZNAME:MDT
DTSTART:20270314T090000
END:DAYLIGHT
BEGIN:STANDARD
TZOFFSETFROM:-0600
TZOFFSETTO:-0700
TZNAME:MST
DTSTART:20271107T080000
END:STANDARD
END:VTIMEZONE
BEGIN:VEVENT
DTSTART;TZID=America/Denver:20260710T193000
DTEND;TZID=America/Denver:20260710T223000
DTSTAMP:20260422T005543
CREATED:20260407T180435Z
LAST-MODIFIED:20260407T180435Z
UID:7292-1783711800-1783722600@www.rubysinn.com
SUMMARY:Utah Symphony at Bryce Canyon
DESCRIPTION:🎶 Utah Symphony at Bryce Canyon — A Summer Evening to Remember\nGet ready for a breathtaking evening of music and natural beauty! On Friday\, July 10\, 2026 at 7:30 PM\, the Utah Symphony at Bryce Canyon concert page returns to Ruby’s Inn at Bryce Canyon for a special performance that blends world‑class orchestral music with the stunning backdrop of Bryce Canyon National Park. \nWhether you’re a long‑time fan of symphonic music or looking for a one‑of‑a‑kind experience during your stay\, this outdoor performance is one of the most magical cultural events of the season. \n🌄 Music Elevated Against a Natural Masterpiece\nImagine a warm summer evening\, the Bryce Canyon horizon lit by sunset\, and an ensemble of Utah’s finest musicians performing beneath the stars. This event celebrates America’s 250th anniversary with a program full of beloved masterpieces and patriotic favorites – perfect for music lovers and families alike. \nHighlights from the concert program include:🎺 John Williams’ “Liberty Fanfare” and Francis Scott Key’s “The Star‑Spangled Banner”🎻 Western‑inspired works such as Elie Siegmeister’s Western Suite and the iconic Aaron Copland’s “Hoe‑Down”🎶 A soulful selection from Mahler’s “Adagietto” and delightful solos by violinist Aubree Oliverson🎤 Soprano Amy Owens brings Broadway and operatic favorites to life with pieces from Candide and La bohème… and more! \n\n \n🎻 Talented Artists on the Rim\nLeading the Utah Symphony for this special performance is conductor Conner Gray Covington\, alongside rising star violinist Aubree Oliverson and acclaimed soprano Amy Owens. Their passion and artistry make this concert an unforgettable experience. \n🎟️ Free with RSVP\nThis performance is free to attend — but an RSVP is required to secure your spot. With limited space on the rim and such a unique setting\, make sure to reserve in advance so you can enjoy this spectacular evening of music. \n🌟 Make It a Night to Remember\nPair your symphony experience with an overnight stay at Ruby’s Inn and make the most of your time in Bryce Canyon City. From scenic hiking and sunset vistas to stargazing and local dining\, there’s no better way to celebrate summer in Utah. \nThis performance is one of the must‑see cultural events of the year — the perfect blend of nature\, music\, and community. \n🎵 Don’t miss out — add it to your calendar and plan your visit today!
URL:https://www.rubysinn.com/event/utah-symphony-at-bryce-canyon/
ATTACH;FMTTYPE=image/jpeg:https://www.rubysinn.com/wp-content/uploads/2026/04/Events-on-the-Rim.jpg
END:VEVENT
END:VCALENDAR