BEGIN:VCALENDAR
VERSION:2.0
PRODID:-//Bryce Canyon Lodging | - ECPv6.15.20//NONSGML v1.0//EN
CALSCALE:GREGORIAN
METHOD:PUBLISH
X-WR-CALNAME:Bryce Canyon Lodging |
X-ORIGINAL-URL:https://www.rubysinn.com
X-WR-CALDESC:Events for Bryce Canyon Lodging |
REFRESH-INTERVAL;VALUE=DURATION:PT1H
X-Robots-Tag:noindex
X-PUBLISHED-TTL:PT1H
BEGIN:VTIMEZONE
TZID:America/Denver
BEGIN:DAYLIGHT
TZOFFSETFROM:-0700
TZOFFSETTO:-0600
TZNAME:MDT
DTSTART:20250309T090000
END:DAYLIGHT
BEGIN:STANDARD
TZOFFSETFROM:-0600
TZOFFSETTO:-0700
TZNAME:MST
DTSTART:20251102T080000
END:STANDARD
BEGIN:DAYLIGHT
TZOFFSETFROM:-0700
TZOFFSETTO:-0600
TZNAME:MDT
DTSTART:20260308T090000
END:DAYLIGHT
BEGIN:STANDARD
TZOFFSETFROM:-0600
TZOFFSETTO:-0700
TZNAME:MST
DTSTART:20261101T080000
END:STANDARD
BEGIN:DAYLIGHT
TZOFFSETFROM:-0700
TZOFFSETTO:-0600
TZNAME:MDT
DTSTART:20270314T090000
END:DAYLIGHT
BEGIN:STANDARD
TZOFFSETFROM:-0600
TZOFFSETTO:-0700
TZNAME:MST
DTSTART:20271107T080000
END:STANDARD
END:VTIMEZONE
BEGIN:VEVENT
DTSTART;VALUE=DATE:20260703
DTEND;VALUE=DATE:20260706
DTSTAMP:20260421T225420
CREATED:20231227T213216Z
LAST-MODIFIED:20260106T222508Z
UID:5690-1783036800-1783295999@www.rubysinn.com
SUMMARY:Bryce Canyon Fee Free Day
DESCRIPTION:🌲 National Park Fee‑Free Days in 2026 — Your Guide to Free Access! 🎉\nPlanning a national park adventure this year? In 2026\, the U.S. National Park Service (NPS) has announced a new schedule of fee‑free days — dates when U.S. citizens and permanent residents can enter parks that normally charge an entrance fee for free. These special days are a great opportunity to explore iconic landscapes like Yellowstone\, Zion\, the Grand Canyon\, Acadia\, and more — without paying the usual entrance cost. National Park Service+1 \n📅 2026 Fee‑Free Days — Mark Your Calendar\nIn 2026\, the National Park Service will waive entrance fees on the following dates for U.S. citizens and permanent residents: \n🌟 Fee‑Free Days: \n\n\nFebruary 16 — Presidents Day (Washington’s Birthday) \n\n\nMay 25 — Memorial Day \n\n\nJune 14 — Flag Day / President’s Birthday \n\n\nJuly 3–5 — Independence Day Weekend \n\n\nAugust 25 — 110th Birthday of the National Park Service \n\n\nSeptember 17 — Constitution Day \n\n\nOctober 27 — Theodore Roosevelt’s Birthday \n\n\nNovember 11 — Veterans Day National Park Service+1 \n\n\nOn these dates\, all NPS sites that typically charge an entrance fee will offer free admission to eligible visitors (though timed‑entry reservations or special tour fees may still apply at some parks). National Park Service \n\n🧭 What’s Changed in 2026?\nIf you visited national parks in the past few years\, you’ll notice a few changes this year: \n🏕️ Fee‑free days are now tailored to specific observances. Instead of some previous holidays like Martin Luther King Jr. Day or Juneteenth\, the 2026 lineup focuses on major federal holidays\, anniversaries\, and historically themed dates. National Park Service \n🌎 Free admission days are now limited to U.S. citizens and permanent residents. Visitors from other countries will still need to pay standard park fees even on fee‑free days. National Park Service \n💳 Park passes and fees are being updated for 2026. There are new digital passes\, and non‑U.S. visitors may see different pricing structures for annual passes and entrance fees\, especially at popular parks. NerdWallet \n\n📌 Quick Tips for Visiting on Fee‑Free Days\n1. Arrive EarlyFee‑free days — especially holiday weekends like Memorial Day or Independence Day — tend to be very popular. Parking and crowds can fill up fast\, so plan to arrive early in the morning. \n2. Check Reservations & Timed EntriesSome parks (like Yosemite or Zion) require timed‑entry reservations for certain seasons or popular areas. Fee waivers don’t always apply to these reservations\, so double‑check park rules before your trip. \n3. Know What’s IncludedFree entrance covers the basic gate admission\, but does not always include camping\, guided tours\, shuttle fees\, or other paid activities. \n4. Explore Lesser‑Known Parks TooThere are hundreds of NPS units — national monuments\, historical sites\, battlefield parks\, and more — many of which also participate in fee‑free days but don’t get the same attention as the big names. It’s a great chance to discover something new! \n\n🌄 Why Visit on Fee‑Free Days?\nNational parks offer some of the most breathtaking scenery in the country — from waterfalls and canyons to forests and deserts. Visiting on one of these special days lets you enjoy iconic landscapes without paying entrance fees (as long as you qualify as a U.S. citizen or permanent resident). Whether you’re planning a weekend road trip or a bucket‑list adventure\, these fee‑free dates can help make it more affordable. National Park Service \n\nReady to explore? Pack your hiking boots\, download your park maps\, and plan your visit around these 2026 fee‑free days to make the most of your national park experience! 🌞🏞️
URL:https://www.rubysinn.com/event/bryce-canyon-fee-free-day-7/
ATTACH;FMTTYPE=image/jpeg:https://www.rubysinn.com/wp-content/uploads/2023/05/spring-in-bryce.jpg
END:VEVENT
BEGIN:VEVENT
DTSTART;VALUE=DATE:20260704
DTEND;VALUE=DATE:20260705
DTSTAMP:20260421T225420
CREATED:20230531T221105Z
LAST-MODIFIED:20260106T223941Z
UID:5496-1783123200-1783209599@www.rubysinn.com
SUMMARY:Independence Day Celebrations
DESCRIPTION:🎆 Celebrate the 4th of July in Bryce Canyon City — A Patriotic Summer Tradition! 🇺🇸\nLooking for a memorable way to celebrate Independence Day this summer? Bryce Canyon City\, nestled near the rim of Bryce Canyon National Park\, offers a classic small‑town Fourth of July celebration packed with outdoor fun\, western entertainment\, and a fireworks show that lights up the desert sky. Whether you’re visiting from out of state or making a local getaway\, this is one of southern Utah’s most festive holiday events. Visit Bryce Canyon City \n\n🎉 What to Expect on July 4th\, 2026\n🇺🇸 Community Spirit & Outdoor FunIndependence Day in Bryce Canyon City is all about celebrating summer and America’s birthday with family\, friends\, and your favorite red‑white‑and‑blue gear! Start your day with a scenic morning — many visitors choose to explore Bryce Canyon’s iconic viewpoints\, hikes\, and overlooks before the festivities begin. Visit Bryce Canyon City \n🤠 Bryce Canyon Country Rodeo Jackpot RodeoOne of the hallmark events of the evening is the Jackpot Rodeo\, one of the biggest rodeos of the year\, featuring traditional Western competition including barrel racing\, bull riding\, and calf roping. It’s a great way to embrace Old West culture and enjoy a high‑energy show — and it typically gets underway in the evening hours on July 4th. Visit Bryce Canyon City \n🎵 Dinner & Live MusicAfter the rodeo action\, many celebrate with live entertainment and dinner at local spots such as the popular country show and barbecue events hosted nearby. Enjoy live bluegrass or country music\, local cuisine\, and community‑style celebration while the sun sets over the red rocks. Visit Bryce Canyon City \n🎇 Fireworks Over the Desert SkyThe highlight of the night is the Independence Day fireworks display\, typically launched from behind the Bryce Canyon City fire station at about 10:00 PM. This fireworks show — often sponsored by the city and local partners — is a breathtaking finish to the night\, with vibrant colors illuminating the desert darkness. Visit Bryce Canyon City \n\n📍 Local tip: The parking area at the rodeo grounds is known among locals as a great spot to view the fireworks show with an open sky and plenty of space. Visit Bryce Canyon City \n\n\n🥾 Make a Day of It\nBryce Canyon City’s Independence Day celebrations are perfect to pair with outdoor exploration and summer travel: \n\n\nMorning Hike: Get an early start with a hike or scenic drive into Bryce Canyon National Park before the holiday afternoon heat builds. Visit Bryce Canyon City \n\n\nPicnic Lunch: Pack a picnic or grab a bite at a local diner like Bryce Canyon Pines Restaurant or Ruby’s Inn Restaurant. \n\n\nStay Close: If you’re making a weekend out of it\, consider lodging right in town at Best Western Plus Bryce Canyon Grand Hotel or camping at Ruby’s Inn RV Park and Campground so you’re close to all the festivities. \n\n\nExtend Your Visit: Pair your Independence Day celebration with nearby activities and events throughout the week — from scenic drives through the park to exploring local trails and viewpoints like Fairyland Loop Trail. \n\n\n\n🇺🇸 Why Celebrate Here?\nBeyond the fireworks and rodeo\, what makes Bryce Canyon City’s Independence Day so special is the sense of community — from local families to travelers who’ve come for the breathtaking scenery and friendly atmosphere. With warm summer weather\, dramatic landscapes\, and a spirited holiday schedule\, it’s a unique way to soak up American traditions in the heart of Utah’s red rock country. Visit Bryce Canyon City \n\n🎇 Plan Ahead: Be sure to book your accommodations early for summer weekends\, as July 4th is a popular time to visit Bryce Canyon National Park. And don’t forget your sunscreen\, water\, and a blanket or chair for fireworks viewing! \nNeed some activities to do during the day? Visit our activity website. \nBryce Canyon Country Rodeo Jackpot Rodeo\n\n\nThe largest rodeos of the year are the Jackpot Rodeos. \nParticipants pay an entry fee\, with the money placed into a jackpot that goes to the top finishers in each event. In addition to the chance at prize money\, jackpots help add pressure and competition to an already great rodeo. The 4th of July rodeo is our biggest rodeo with fun events you can only see once a year. Rodeo starts at 7:00 PM. For more information and ticket purchase\, visit our website. \n \n\nEbenezer’s Barn and Grill Country Dinner Show\nJoin Ebenezer’s Barn & Grill and The Bryce Canyon Wranglers for an unforgettable evening of live country music and delicious BBQ dinner. \nDoors Open 7:00 PM | Be in your seat by 7:20 PM\nDinner 7:30 PM | Show starts at  8:00 PM \nGet your tickets now! \n \n\nIndependence Day Fire Works Display\nEnjoy a beautiful fireworks display sponsored by Bryce Canyon City and Ruby’s Inn at 10:00 PM. Fireworks will be launched from the Bryce Canyon City Fire Station. A locals secret? Park at the Bryce Canyon Country Rodeo parking lot for the best view.
URL:https://www.rubysinn.com/event/independence-day/
ATTACH;FMTTYPE=image/jpeg:https://www.rubysinn.com/wp-content/uploads/2023/05/spring-in-bryce.jpg
END:VEVENT
END:VCALENDAR