BEGIN:VCALENDAR
VERSION:2.0
PRODID:-//Bryce Canyon Lodging | - ECPv6.15.20//NONSGML v1.0//EN
CALSCALE:GREGORIAN
METHOD:PUBLISH
X-WR-CALNAME:Bryce Canyon Lodging |
X-ORIGINAL-URL:https://www.rubysinn.com
X-WR-CALDESC:Events for Bryce Canyon Lodging |
REFRESH-INTERVAL;VALUE=DURATION:PT1H
X-Robots-Tag:noindex
X-PUBLISHED-TTL:PT1H
BEGIN:VTIMEZONE
TZID:America/Denver
BEGIN:DAYLIGHT
TZOFFSETFROM:-0700
TZOFFSETTO:-0600
TZNAME:MDT
DTSTART:20250309T090000
END:DAYLIGHT
BEGIN:STANDARD
TZOFFSETFROM:-0600
TZOFFSETTO:-0700
TZNAME:MST
DTSTART:20251102T080000
END:STANDARD
BEGIN:DAYLIGHT
TZOFFSETFROM:-0700
TZOFFSETTO:-0600
TZNAME:MDT
DTSTART:20260308T090000
END:DAYLIGHT
BEGIN:STANDARD
TZOFFSETFROM:-0600
TZOFFSETTO:-0700
TZNAME:MST
DTSTART:20261101T080000
END:STANDARD
BEGIN:DAYLIGHT
TZOFFSETFROM:-0700
TZOFFSETTO:-0600
TZNAME:MDT
DTSTART:20270314T090000
END:DAYLIGHT
BEGIN:STANDARD
TZOFFSETFROM:-0600
TZOFFSETTO:-0700
TZNAME:MST
DTSTART:20271107T080000
END:STANDARD
END:VTIMEZONE
BEGIN:VEVENT
DTSTART;VALUE=DATE:20260214
DTEND;VALUE=DATE:20260217
DTSTAMP:20260422T122420
CREATED:20240115T212358Z
LAST-MODIFIED:20260216T160259Z
UID:5781-1771027200-1771286399@www.rubysinn.com
SUMMARY:Bryce Canyon Winter Festival
DESCRIPTION:❄️ Experience the Bryce Canyon Winter Festival: A Weekend of Snow\, Adventure & Fun! 🌨️\nEvery President’s Day weekend in February\, winter takes center stage at Ruby’s Inn at the gateway to Bryce Canyon National Park with the Bryce Canyon Winter Festival — a long‑running celebration of winter activities\, scenic beauty\, and family‑friendly fun. With activities for all ages and interests\, it’s one of southern Utah’s most festive and energizing winter events. Bryce Canyon Lodging |+1 \n📅 When & Where\nThe 2026 Bryce Canyon Winter Festival is scheduled for February 14–16\, 2026 during President’s Day weekend and will take place at Ruby’s Inn\, just outside Bryce Canyon National Park in Bryce Canyon City\, Utah. Bryce Canyon Lodging | \nThis location is a perfect winter base for exploring snowy landscapes\, scenic viewpoints\, and all the activities the festival has to offer — with cozy lodging\, food\, and entertainment right on site. Bryce Canyon Lodging | \n\n🧤 What to Expect at the Festival\nThe Bryce Canyon Winter Festival is designed to help visitors fully embrace winter in southern Utah — whether you’re a seasoned snow lover or trying winter sports for the first time. The lineup includes a wide range of free clinics\, workshops\, tours\, and competitions tailored to all ages and skill levels. Bryce Canyon Lodging | \n❄️ Outdoor Adventures\nExpect plenty of cold‑weather fun in the fresh air\, including: \n\n\nCross‑Country Ski Tours & Clinics (weather permitting) — Learn classic or skate techniques\, or join guided ski tours across scenic terrain. Bryce Canyon Lodging |  \n\n\nSnowshoe Tours & Races (weather permitting) — Explore trails and forests on snowshoes while building balance and strength. Bryce Canyon Lodging | \n\n\nArchery Clinics & Biathlon Events — Try your skills with bow and arrow or combine skiing and archery for a fun challenge. Bryce Canyon Lodging | \n\n\nPeople‑Powered Sled Races & Snow Boot Races (weather permitting) — Friendly competitions fit for kids and adults alike. Visit Bryce Canyon City \n\n\n🖌️ Indoor & Creative Activities\nNot everyone wants to stay outside in the winter chill\, and the festival delivers plenty of engaging indoor events too: \n\n\nPhotography Workshops & Clinics — Capture the stunning winter scenes of Bryce Canyon’s hoodoos and snowy landscapes. Visit Bryce Canyon City \n\n\nArts & Crafts — Kids and adults can enjoy activities like watercolor painting\, leather journal making\, clay classes\, and more. Visit Bryce Canyon City \n\n\nYoga\, Fitness & Health Classes — Keep your body moving with yoga\, stretching\, or health‑focused sessions throughout the weekend. Visit Bryce Canyon City \n\n\nGuest Speakers & Entertainment — Talks\, demonstrations\, and fun presentations add extra depth and community feel to the festival. Visit Bryce Canyon City \n\n\n\n❄️ Tips for Festival Goers\nBefore you head out for a weekend of winter fun\, here are a few helpful suggestions: \n🧣 Dress in Layers & Prepare for Cold Weather\nBryce Canyon’s high elevation means winter temperatures can be cold and snowy — perfect for snow activities but you’ll want proper layers\, waterproof boots\, gloves\, and a warm coat. Visit Utah \n🎟️ Register Ahead of Time\nMany festival activities — especially clinics\, races\, and tours — require online registration and sometimes fill up quickly. Plan ahead and sign up early so you don’t miss out on your favorites. Bryce Canyon Lodging | \n🚗 Plan for Park Fees\nWhile festival events at Ruby’s Inn may be free\, activities inside Bryce Canyon National Park (like guided snowshoe hikes or scenic drives) still require the park’s entrance fee. Visit Utah \n\n🌨️ Why You Should Go\nWhether you’re after adrenaline‑pumping outdoor fun\, a chance to learn new winter skills\, or simply want to soak in the stunning snowy scenery of Bryce Canyon’s hoodoos\, the Bryce Canyon Winter Festival offers something for everyone. It’s a perfect getaway weekend for families\, couples\, and outdoor adventurers alike — and a great way to make winter memories in one of Utah’s most beautiful landscapes. \n  \nFor more details. \n \n 
URL:https://www.rubysinn.com/event/bryce-canyon-winter-festival/
ATTACH;FMTTYPE=image/jpeg:https://www.rubysinn.com/wp-content/uploads/2024/01/Bryce-Canyon-Winter-Fest-2016-076.jpg
END:VEVENT
BEGIN:VEVENT
DTSTART;VALUE=DATE:20260216
DTEND;VALUE=DATE:20260217
DTSTAMP:20260422T122420
CREATED:20231227T212644Z
LAST-MODIFIED:20260106T222253Z
UID:5684-1771200000-1771286399@www.rubysinn.com
SUMMARY:Bryce Canyon Fee Free Day
DESCRIPTION:🌲 National Park Fee‑Free Days in 2026 — Your Guide to Free Access! 🎉\nPlanning a national park adventure this year? In 2026\, the U.S. National Park Service (NPS) has announced a new schedule of fee‑free days — dates when U.S. citizens and permanent residents can enter parks that normally charge an entrance fee for free. These special days are a great opportunity to explore iconic landscapes like Yellowstone\, Zion\, the Grand Canyon\, Acadia\, and more — without paying the usual entrance cost. National Park Service+1 \n📅 2026 Fee‑Free Days — Mark Your Calendar\nIn 2026\, the National Park Service will waive entrance fees on the following dates for U.S. citizens and permanent residents: \n🌟 Fee‑Free Days: \n\n\nFebruary 16 — Presidents Day (Washington’s Birthday) \n\n\nMay 25 — Memorial Day \n\n\nJune 14 — Flag Day / President’s Birthday \n\n\nJuly 3–5 — Independence Day Weekend \n\n\nAugust 25 — 110th Birthday of the National Park Service \n\n\nSeptember 17 — Constitution Day \n\n\nOctober 27 — Theodore Roosevelt’s Birthday \n\n\nNovember 11 — Veterans Day National Park Service+1 \n\n\nOn these dates\, all NPS sites that typically charge an entrance fee will offer free admission to eligible visitors (though timed‑entry reservations or special tour fees may still apply at some parks). National Park Service \n\n🧭 What’s Changed in 2026?\nIf you visited national parks in the past few years\, you’ll notice a few changes this year: \n🏕️ Fee‑free days are now tailored to specific observances. Instead of some previous holidays like Martin Luther King Jr. Day or Juneteenth\, the 2026 lineup focuses on major federal holidays\, anniversaries\, and historically themed dates. National Park Service \n🌎 Free admission days are now limited to U.S. citizens and permanent residents. Visitors from other countries will still need to pay standard park fees even on fee‑free days. National Park Service \n💳 Park passes and fees are being updated for 2026. There are new digital passes\, and non‑U.S. visitors may see different pricing structures for annual passes and entrance fees\, especially at popular parks. NerdWallet \n\n📌 Quick Tips for Visiting on Fee‑Free Days\n1. Arrive EarlyFee‑free days — especially holiday weekends like Memorial Day or Independence Day — tend to be very popular. Parking and crowds can fill up fast\, so plan to arrive early in the morning. \n2. Check Reservations & Timed EntriesSome parks (like Yosemite or Zion) require timed‑entry reservations for certain seasons or popular areas. Fee waivers don’t always apply to these reservations\, so double‑check park rules before your trip. \n3. Know What’s IncludedFree entrance covers the basic gate admission\, but does not always include camping\, guided tours\, shuttle fees\, or other paid activities. \n4. Explore Lesser‑Known Parks TooThere are hundreds of NPS units — national monuments\, historical sites\, battlefield parks\, and more — many of which also participate in fee‑free days but don’t get the same attention as the big names. It’s a great chance to discover something new! \n\n🌄 Why Visit on Fee‑Free Days?\nNational parks offer some of the most breathtaking scenery in the country — from waterfalls and canyons to forests and deserts. Visiting on one of these special days lets you enjoy iconic landscapes without paying entrance fees (as long as you qualify as a U.S. citizen or permanent resident). Whether you’re planning a weekend road trip or a bucket‑list adventure\, these fee‑free dates can help make it more affordable. National Park Service \n\nReady to explore? Pack your hiking boots\, download your park maps\, and plan your visit around these 2026 fee‑free days to make the most of your national park experience! 🌞🏞️
URL:https://www.rubysinn.com/event/bryce-canyon-fee-free-day-4/
ATTACH;FMTTYPE=image/jpeg:https://www.rubysinn.com/wp-content/uploads/2023/10/Bryce-Arch-2.jpg
END:VEVENT
END:VCALENDAR